Workbook

Sheet CoverSheet
A1: 2018 Rechartering Status Report
B3: Process Status
B4: Due to Recharter | C4: Submitted | D4: Balance | E4: Year end number | F4: 2017 yth | G4: Diff in youth | H4: In Office | I4: Processed
A5: Suncoast | B5: =COUNTA(Suncoast!$H:$H)-1 -> 47 | C5: =COUNTIF(Suncoast!$H:$H,"Yes") -> 6 | D5: =B5-C5 -> 41 | E5: =Suncoast!$L$50 -> 1674 | F5: =Suncoast!$M$50 -> 1114 | G5: =Suncoast!$N$50 -> -560 | H5: =COUNTIF(Suncoast!K:K,"Yes") -> 43 | I5: =COUNTIF(Suncoast!J:J,"Yes") -> 37
A6: Ft. Brooke | B6: =COUNTA('FT. Brooke'!#REF!)-1 -> 0 | C6: =COUNTIF('FT. Brooke'!#REF!,"Yes") -> #REF! | D6: =B6-C6 -> #REF! | E6: ='FT. Brooke'!$D$118 -> 0 | F6: ='FT. Brooke'!#REF! -> #REF! | G6: ='FT. Brooke'!#REF! -> #REF! | H6: =COUNTIF('FT. Brooke'!#REF!,"Yes") -> #REF! | I6: =COUNTIF('FT. Brooke'!#REF!,"Yes") -> #REF!
A7: Miccossukee | B7: =COUNTA(Miccosukee!#REF!)-1 -> 0 | C7: =COUNTIF(Miccosukee!#REF!,"Yes") -> #REF! | D7: =B7-C7 -> #REF! | E7: =Miccosukee!$D$71 -> 0 | F7: =Miccosukee!#REF! -> #REF! | G7: =Miccosukee!#REF! -> #REF! | H7: =COUNTIF(Miccosukee!#REF!,"Yes") -> #REF! | I7: =COUNTIF(Miccosukee!#REF!,"Yes") -> #REF!
A8: Withlacoochee | B8: =COUNTA(Withlacoochee!#REF!)-1 -> 0 | C8: =COUNTIF(Withlacoochee!#REF!,"Yes") -> #REF! | D8: =B8-C8 -> #REF! | E8: =Withlacoochee!$D$42 -> 0 | F8: =Withlacoochee!#REF! -> #REF! | G8: =Withlacoochee!#REF! -> #REF! | H8: =COUNTIF(Withlacoochee!#REF!,"Yes") -> #REF! | I8: =COUNTIF(Withlacoochee!#REF!,"Yes") -> #REF!
B9: =SUM(B5:B8) -> 47 | C9: =SUM(C5:C8) -> #REF! | D9: =SUM(D5:D8) -> #REF! | E9: =SUM(E5:E8) -> 1674 | F9: =SUM(F5:F8) -> #REF! | G9: =SUM(G5:G8) -> #REF! | H9: =SUM(H5:H8) -> #REF! | I9: =SUM(I5:I8) -> #REF!
A10: Skyway | B10: =COUNTA(Skyway!#REF!)-1 -> 0 | C10: =COUNTIF(Skyway!#REF!,"yes") -> #REF! | D10: =B10-C10 -> #REF! | E10: =Skyway!$D$46 -> 0 | F10: =Skyway!#REF! -> #REF! | G10: =Skyway!#REF! -> #REF! | H10: =COUNTIF(Skyway!#REF!,"Yes") -> #REF! | I10: =COUNTIF(Skyway!#REF!,"Yes") -> #REF!
A11: Lake Region | B11: =COUNTA(LakeRegion!#REF!)-1 -> 0 | C11: =COUNTIF(LakeRegion!#REF!,"yes") -> #REF! | D11: =B11-C11 -> #REF! | E11: =LakeRegion!$D$61 -> 0 | F11: =LakeRegion!#REF! -> #REF! | G11: =LakeRegion!#REF! -> #REF! | H11: =COUNTIF(LakeRegion!#REF!,"Yes") -> #REF! | I11: =COUNTIF(LakeRegion!#REF!,"Yes") -> #REF!
A12: Thunderbird | B12: =COUNTA(Thunderbird!#REF!)-1 -> 0 | C12: =COUNTIF(Thunderbird!#REF!,"yes") -> #REF! | D12: =B12-C12 -> #REF! | E12: =Thunderbird!$D$29 -> 0 | F12: =Thunderbird!#REF! -> #REF! | G12: =Thunderbird!#REF! -> #REF! | H12: =COUNTIF(Thunderbird!#REF!,"Yes") -> #REF! | I12: =COUNTIF(Thunderbird!#REF!,"Yes") -> #REF!
A13: Timucua | B13: =COUNTA(Timucua!#REF!)-1 -> 0 | C13: =COUNTIF(Timucua!#REF!,"yes") -> #REF! | D13: =B13-C13 -> #REF! | E13: =Timucua!$D$76 -> 0 | F13: =Timucua!#REF! -> #REF! | G13: =Timucua!#REF! -> #REF! | H13: =COUNTIF(Timucua!#REF!,"Yes") -> #REF! | I13: =COUNTIF(Timucua!#REF!,"Yes") -> #REF!
B14: =SUM(B11:B13) -> 0 | C14: =SUM(C11:C13) -> #REF! | D14: =B14-C14 -> #REF! | E14: =SUM(E11:E13) -> 0 | F14: =SUM(F11:F13) -> #REF! | G14: =SUM(G11:G13) -> #REF! | H14: =SUM(H11:H13) -> #REF! | I14: =SUM(I11:I13) -> #REF!
A16: TOTAL | B16: =SUM(B9,B14) -> 47 | C16: =SUM(C9,C14) -> #REF! | D16: =B16-C16 -> #REF! | E16: =SUM(E9,E14) -> 1674 | F16: =SUM(F9,F14) -> #REF! | G16: =SUM(G9,G14) -> #REF! | H16: =SUM(H9,H14) -> #REF! | I16: =SUM(I9,I14) -> #REF!

Sheet Suncoast
A1: unit | B1: number | C1: organization_name | D1: Contact Name | E1: Contact Phone | F1: JTE Level | G1: submitted_date | H1: on_hold | I1: posted_date | J1: Posted | K1: In Office | L1: Year end number | M1: Rechartered yth 2017 | N1: Plus-minus yth | O1: Deffective reason/notes
A2: Crew | B2: 0007 | C2: St Thomas Aquinas Catholic Church | D2: Jonathan Carter | E2: 727-505-8079 | H2: No | L2: 5 | N2: =M2-L2 -> -5
A3: Crew | B3: 0711 | C3: Gulf High School NJROTC | D3: John McGuire | E3: 813-655-4894 | H3: No | L3: 16 | N3: =M3-L3 -> -16
A4: Pack | B4: 0003 | C4: First United Methodist Church of La | D4: Justin Martin | E4: 813-996-3258 | F4: NO | G4: 43088 | H4: No | I4: 43168 | J4: yes | K4: yes | L4: 47 | M4: 22 | N4: =M4-L4 -> -25
A5: Pack | B5: 0007 | C5: St Thomas Aquinas Catholic Church | D5: Jeremy Davis | E5: 727-375-1086 | F5: G | G5: 43073 | H5: No | I5: 43158 | J5: yes | K5: yes | L5: 104 | M5: 70 | N5: =M5-L5 -> -34
A6: Pack | B6: 0008 | C6: First United Methodist Church of NP | D6: Christopher Williams | E6: 727-807-5907 | F6: NO | G6: 43097 | H6: No | I6: 43140 | J6: yes | K6: yes | L6: 71 | M6: 41 | N6: =M6-L6 -> -30
A7: Pack | B7: 0033 | C7: Our Lady of the Rosary Catholic Chu | D7: Wesley Newhall | E7: 813-476-3247 | F7: G | G7: 43091 | H7: No | I7: 43159 | J7: yes | K7: YES | L7: 46 | M7: 37 | N7: =M7-L7 -> -9
A8: Pack | B8: 0038 | C8: LDS - Hudson Ward - St Pete Stake | D8: William Parker | E8: 845-537-9616 | H8: No | L8: 7 | N8: =M8-L8 -> -7
A9: Pack | B9: 0040 | C9: St Marks Presbyterian Church | D9: Timothy Faughnan | E9: 727-534-6942 | F9: NO | G9: 43097 | H9: No | I9: 43159 | J9: yes | K9: yes | L9: 29 | M9: 25 | N9: =M9-L9 -> -4
A10: Pack | B10: 13 | C10: VFW Post 4412 | D10: James Carbonneau | E10: 727-815-0934 | F10: NO | G10: 43099 | H10: No | I10: 43152 | J10: yes | K10: yes | L10: 14 | M10: 18 | N10: =M10-L10 -> 4
A11: Pack | B11: 0060 | C11: Asbury United Methodist Church | D11: Stephen Collins | E11: 727-494-7592 | F11: NO | G11: 43077 | H11: No | I11: 43173 | J11: yes | K11: yes | L11: 34 | M11: 21 | N11: =M11-L11 -> -13
A12: Pack | B12: 0072 | C12: Rotary Club Of Zephyrhills | D12: Eric Barre | E12: 813-782-1251 | F12: G | G12: 43056 | H12: No | I12: 43129 | J12: yes | K12: yes | L12: 52 | M12: 26 | N12: =M12-L12 -> -26
A13: Pack | B13: 0077 | C13: First Presbyterian Church of Zephyr | D13: Seath Maslen | E13: 813-312-5209 | F13: NO | G13: 43094 | H13: No | I13: 43171 | J13: yes | K13: yes | L13: 15 | M13: 8 | N13: =M13-L13 -> -7
A14: Pack | B14: 0091 | C14: Shady Hills United Methodist Church | D14: Jami Crumley | E14: 727-953-5591 | F14: G | G14: 43097 | H14: yes | K14: yes | L14: 30 | M14: 17 | N14: =M14-L14 -> -13 | O14: need appl for Justin Milltee, Brittany Mora & Christina Neilson
A15: Pack | B15: 0140 | C15: St Vincent De Paul Catholic Church | D15: John Storminger | E15: 727-207-8375 | F15: NO | G15: 43099 | H15: No | I15: 43186 | J15: yes | K15: yes | L15: 51 | M15: 21 | N15: =M15-L15 -> -30
A16: Pack | B16: 0148 | C16: Atonement Lutheran Church | D16: Michael Taylor | E16: 813-501-8655 | F16: G | G16: 43073 | H16: No | I16: 43159 | J16: yes | K16: yes | L16: 115 | M16: 65 | N16: =M16-L16 -> -50
A17: Pack | B17: 0149 | C17: Rotary Club of Wesley Chapel | D17: Scott Raymond | E17: 813-375-2261 | F17: NO | G17: 43089 | H17: No | I17: 43159 | J17: yes | K17: yes | L17: 108 | M17: 57 | N17: =M17-L17 -> -51
A18: Pack | B18: 0177 | C18: Trinity United Methodist Church | D18: Jaime Pena | E18: 813-788-3906 | F18: S | G18: 43090 | H18: No | I18: 43130 | J18: yes | K18: yes | L18: 90 | M18: 56 | N18: =M18-L18 -> -34
A19: Pack | B19: 0206 | C19: The Church of Jesus Christ of LDS | D19: Stephen Southwort | E19: 813-872-6799 | H19: No | L19: 18 | N19: =M19-L19 -> -18
A20: Pack | B20: 0301 | C20: First Presbyterian Church | D20: Teresa Dadez | E20: 352-467-0042 | G20: 43153 | H20: yes | K20: yes | L20: 50 | M20: 32 | N20: =M20-L20 -> -18 | O20: need charter signature page
A21: Pack | B21: 0311 | C21: St Anthony of Padua Catholic Church | D21: Kyle Christmas | E21: 352-588-3287 | F21: NO | G21: 43090 | H21: yes | K21: yes | L21: 30 | M21: 16 | N21: =M21-L21 -> -14 | O21: need SS # for Jacquelyn Christmas and cbc
A22: Pack | B22: 0323 | C22: Concerned Parents of LOL / WC | D22: Robert Heinzmann | E22: 540-809-6441 | F22: G | G22: 43094 | H22: yes | K22: yes | L22: 87 | M22: 67 | N22: =M22-L22 -> -20 | O22: Need Kay Svengard appl
A23: Pack | B23: 0350 | C23: LDS Church-Dade City Ward-Tampa Sta | D23: Lea Chandler | E23: 813-312-7069 | F23: NO | G23: 43110 | H23: No | I23: 43152 | J23: yes | K23: yes | L23: 10 | M23: 7 | N23: =M23-L23 -> -3
A24: Pack | B24: 0366 | C24: Rasmussen College | D24: Michael Kerrigan | E24: 770-335-8075 | F24: G | G24: 43090 | H24: No | I24: 43129 | J24: yes | K24: YES | L24: 133 | M24: 96 | N24: =M24-L24 -> -37
A25: Post | B25: 0353 | C25: Dade City Police Department | D25: Peter Emerson | E25: 352-521-1495 | G25: 43070 | H25: No | I25: 43173 | J25: yes | K25: yes | L25: 9 | M25: 7 | N25: =M25-L25 -> -2
A26: Troop | B26: 0002 | C26: Atonement Lutheran Church | D26: Leigh Smith | E26: 813-545-5737 | F26: G | G26: 43095 | H26: No | I26: 43139 | J26: yes | K26: YES | L26: 17 | M26: 14 | N26: =M26-L26 -> -3
A27: Troop | B27: 0003 | C27: First United Methodist Church of La | D27: Lee Edwards | E27: 813-760-2698 | F27: G | G27: 43093 | H27: No | I27: 43131 | J27: yes | K27: YES | L27: 38 | M27: 28 | N27: =M27-L27 -> -10
A28: Troop | B28: 0008 | C28: First United Methodist Church of NP | D28: Kevin Tipton | E28: 727-944-4091 | F28: NO | G28: 43098 | H28: No | I28: 43153 | J28: yes | K28: yes | L28: 19 | M28: 17 | N28: =M28-L28 -> -2
A29: Troop | B29: 0024 | C29: American Legion Paradise Post 79 | D29: Christopher Feagles | E29: 727-848-6882 | F29: G | G29: 43091 | H29: No | I29: 43154 | J29: yes | K29: yes | L29: 11 | M29: 8 | N29: =M29-L29 -> -3
A30: Troop | B30: 0033 | C30: Our Lady of the Rosary Catholic Chu | D30: Charles Fuhmeister | E30: 813-996-7135 | F30: G | G30: 43090 | H30: No | I30: 43129 | J30: yes | K30: yes | L30: 57 | M30: 45 | N30: =M30-L30 -> -12
A31: Troop | B31: 0038 | C31: LDS - Hudson Ward - St Pete Stake | D31: Rolando Nurse | E31: 727-376-8835 | G31: 43134 | H31: No | I31: 43171 | J31: yes | K31: yes | L31: 24 | M31: 24 | N31: =M31-L31 -> 0
A32: Troop | B32: 0040 | C32: St Marks Presbyterian Church | D32: Michael Faughnan | E32: 727-815-5376 | F32: NO | G32: 43098 | H32: No | I32: 43164 | J32: yes | K32: yes | L32: 10 | M32: 7 | N32: =M32-L32 -> -3
A33: Troop | B33: 0060 | C33: Asbury United Methodist Church | D33: Douglas Anderson | E33: 727-856-8723 | F33: G | G33: 43073 | H33: No | I33: 43171 | J33: yes | K33: yes | L33: 19 | M33: 14 | N33: =M33-L33 -> -5
A34: Troop | B34: 0072 | C34: Zephyrhills Rotary Club | D34: Craig Boisseau | E34: 407-595-3015 | G34: 42806 | H34: No | I34: 43171 | J34: yes | K34: yes | L34: 20 | M34: 10 | N34: =M34-L34 -> -10
A35: Troop | B35: 0077 | C35: Trinity Presbyterian Church of Seve | D35: David Davis | E35: 727-943-2068 | F35: G | G35: 43089 | H35: No | I35: 43124 | J35: yes | K35: yes | L35: 20 | M35: 18 | N35: =M35-L35 -> -2
A36: Troop | B36: 0086 | C36: First United Methodist Church of Hu | D36: Russell Hagerman | E36: 727-856-9243 | F36: G | G36: 43092 | H36: No | I36: 43152 | J36: yes | K36: yes | L36: 16 | M36: 16 | N36: =M36-L36 -> 0
A37: Troop | B37: 0091 | C37: Shady Hills United Methodist Church | D37: Donald Eith | E37: 727-862-3639 | F37: G | G37: 43097 | H37: No | I37: 43161 | J37: yes | K37: yes | L37: 13 | M37: 11 | N37: =M37-L37 -> -2
A38: Troop | B38: 0149 | C38: Rotary Club of Wesley Chapel, Inc | D38: Orlando Serrano | E38: 813-957-0442 | F38: NO | G38: 43097 | H38: No | I38: 43137 | J38: yes | K38: yes | L38: 27 | M38: 23 | N38: =M38-L38 -> -4
A39: Troop | B39: 0155 | C39: VFW Donald Michels Jr Post 6180 | D39: Todd Myers | E39: 727-856-2061 | F39: NO | G39: 43097 | H39: No | I39: 43139 | J39: yes | K39: yes | L39: 18 | M39: 15 | N39: =M39-L39 -> -3
A40: Troop | B40: 0177 | C40: St Thomas Aquinas Catholic Church | D40: Scott Galley | E40: 727-366-2450 | F40: NO | G40: 43130 | H40: No | I40: 43166 | J40: yes | K40: yes | L40: 30 | M40: 21 | N40: =M40-L40 -> -9
A41: Troop | B41: 0177 | C41: Trinity United Methodist Church | D41: Christopher Fonteyn | E41: 813-785-6048 | F41: G | G41: 43088 | H41: No | I41: 43153 | J41: yes | K41: yes | L41: 23 | M41: 17 | N41: =M41-L41 -> -6
A42: Troop | B42: 0206 | C42: The Church of Jesus Christ of LDS | D42: Scott Anderson | E42: 919-559-2025 | G42: 43143 | H42: yes | K42: yes | L42: 26 | M42: 35 | N42: =M42-L42 -> 9 | O42: Need appl for Robert Brightman, Cade Anderson, Gus Bozeman, Josh Thornton Roman Gillrie is reg. in T350
A43: Troop | B43: 0300 | C43: Saddlebrook Preparatory School | D43: Martin Levins | E43: 617-719-4400 | F43: G | G43: 43096 | H43: No | I43: 43153 | J43: yes | K43: yes | L43: 8 | M43: 8 | N43: =M43-L43 -> 0
A44: Troop | B44: 0311 | C44: St Anthony of Padua Catholic Church | D44: Christopher Davis | E44: 813-335-2608 | F44: S | G44: 43076 | H44: No | I44: 43117 | J44: yes | K44: yes | L44: 22 | M44: 20 | N44: =M44-L44 -> -2
A45: Troop | B45: 0350 | C45: LDS Church-Dade City Ward-Tampa Sta | D45: Jacob Lenzi | E45: 928-228-7655 | F45: NO | G45: 43110 | H45: No | I45: 43152 | J45: yes | K45: yes | L45: 15 | M45: 6 | N45: =M45-L45 -> -9
A46: Troop | B46: 0375 | C46: Trilby Masonic Lodge No 141 F & AM | D46: James Gentry | E46: 352-457-2466 | F46: NO | G46: 43098 | H46: No | I46: 43159 | J46: yes | K46: yes | L46: 11 | M46: 5 | N46: =M46-L46 -> -6
A47: Troop | B47: 0402 | C47: First Presbyterian Church | D47: Wiiliam Morton | E47: 813-997-4987 | F47: NO | G47: 43081 | H47: No | I47: 43172 | J47: yes | K47: yes | L47: 9 | M47: 8 | N47: =M47-L47 -> -1
A48: Troop | B48: 0707 | C48: Concerned Parents of LOL / WC | D48: Douglas Gilliland | E48: 813 995-2623 | F48: G | G48: 43095 | H48: yes | K48: yes | L48: 50 | M48: 35 | N48: =M48-L48 -> -15 | O48: Need app for David & Shannon Barker
N49: =M49-L49 -> 0
L50: =SUM(L2:L49) -> 1674 | M50: =SUM(M2:M49) -> 1114 | N50: =SUM(N2:N49) -> -560

Sheet LakeRegion
A1: unit | B1: number | C1: organization_name | D1: Year end number | E1: Unit Goal
A2: Crew | B2: 0000 | C2: Yeti Benevolent Society | D2: 2 | E2: 400
A3: Crew | B3: 0538 | C3: International Market World | D3: 3 | E3: 600
A4: Crew | B4: 0888 | C4: American Legion Post 08 | D4: 2 | E4: 400
A5: Pack | B5: 0115 | C5: Rotary Club of Auburndale | D5: 39 | E5: 7800
A6: Pack | B6: 0121 | C6: First Presbyterian Church of Winter | D6: 23 | E6: 4600
A7: Pack | B7: 0123 | C7: Beymer Memorial United Methodist Ch | D7: 33 | E7: 6600
A8: Pack | B8: 0144 | C8: LDS Church-Lake Wales Ward-Lakeland | D8: 4 | E8: 800
A9: Pack | B9: 0156 | C9: Union Congregational Church | D9: 24 | E9: 4800
A10: Pack | B10: 0169 | C10: First United Methodist Church of Fr | D10: 31 | E10: 6200
A11: Pack | B11: 0200 | C11: First Missionary Baptist Church | D11: 9 | E11: 1800
A12: Pack | B12: 0482 | C12: American Legion Post 25 | D12: 53 | E12: 10600
A13: Pack | B13: 0501 | C13: LDS Church-Citrus Ridge Ward-Lakela | E13: 0
A14: Pack | B14: 0505 | C14: St Josephs Catholic Church | D14: 65 | E14: 13000
A15: Pack | B15: 0514 | C15: Lighthouse Homeschoolers Inc | D15: 8 | E15: 1600
A16: Pack | B16: 0515 | C16: Holy Cross Episcopal Church | D16: 76 | E16: 15200
A17: Pack | B17: 0526 | C17: Veterans of Foreign Wars | D17: 51 | E17: 10200
A18: Pack | B18: 0528 | C18: UFCW Local 1625 | D18: 100 | E18: 20000
A19: Pack | B19: 0535 | C19: First United Methodist Church of Ha | D19: 4 | E19: 800
A20: Pack | B20: 0538 | C20: International Market World | D20: 18 | E20: 3600
A21: Pack | B21: 0541 | C21: First Presbyterian Church of Haines | D21: 67 | E21: 13400
A22: Pack | B22: 0557 | C22: LDS Church-Winter Haven Ward-Lakela | D22: 3 | E22: 600
A23: Pack | B23: 0561 | C23: Christ Community Church | D23: 38 | E23: 7600
A24: Pack | B24: 0565 | C24: Hope Presbyterian Church | D24: 15 | E24: 3000
A25: Pack | B25: 0570 | C25: Grove Manor-Lake Wales Housing Auth | D25: 25 | E25: 5000
... A59: Troop | B59: 0846 | C59: First UMC of Sebring | D59: 20 | E59: 4000

Sheet Thunderbird
A1: unit | B1: number | C1: organization_name | D1: Year end number | E1: Unit Goal
A2: Pack | B2: 0104 | C2: First Presbyterian Church of Lakela | D2: 45 | E2: 9000
A3: Pack | B3: 0106 | C3: St. Stephens Church | D3: 96 | E3: 19200
A4: Pack | B4: 0147 | C4: First Presbyterian Church | D4: 30 | E4: 6000
A5: Pack | B5: 0711 | C5: Lake Gibson United Methodist Church | D5: 68 | E5: 13600
A6: Pack | B6: 0713 | C6: Knights Of Columbus | D6: 41 | E6: 8200
A7: Pack | B7: 0722 | C7: The Revolution Church | D7: 29 | E7: 5800
A8: Pack | B8: 0725 | C8: Reformation Lutheran Church | D8: 15 | E8: 3000
A9: Pack | B9: 0740 | C9: Shepherd Road Presbyterian Church | D9: 40 | E9: 8000
A10: Pack | B10: 0760 | C10: First United Methodist Church | D10: 47 | E10: 9400
A11: Pack | B11: 0765 | C11: LDS Church-Gibsonia Ward-Lakeland S | D11: 12 | E11: 2400
A12: Pack | B12: 0767 | C12: LDS Church-Highlands Ward-Lakeland | D12: 12 | E12: 2400
A13: Post | B13: 0001 | C13: Polk County Sheriffs Office | D13: 51 | E13: 10200
... A26: Troop | B26: 0767 | C26: LDS Church-Highlands Ward-Lakeland | D26: 15 | E26: 3000

Sheet Timucua
A1: unit | B1: number | C1: organization_name | D1: Year end number | E1: Unit Goal
A2: Crew | B2: 0265 | C2: LDS Church-Valrico Ward-Brandon Sta | D2: 1 | E2: 200
A3: Crew | B3: 0266 | C3: LDS Church-Riverview Ward-Brandon S | D3: 0 | E3: 0
A4: Crew | B4: 0610 | C4: St Stephen Catholic Church | D4: 5 | E4: 1000
A5: Crew | B5: 0797 | C5: First United Methodist Church of Se | D5: 6 | E5: 1200
A6: Crew | B6: 1986 | C6: Brandon 86 Rotary Club | D6: 7 | E6: 1400
A7: Pack | B7: 0005 | C7: Norman McLeod American Legion Post | D7: 13 | E7: 2600
A8: Pack | B8: 0011 | C8: St Andrews United Methodist Church | D8: 28 | E8: 5600
A9: Pack | B9: 0039 | C9: Rotary Club of Riverview | D9: 29 | E9: 5800
A10: Pack | B10: 0061 | C10: Brandon 86 Rotary Club | D10: 70 | E10: 14000
A11: Pack | B11: 0079 | C11: Immanuel Lutheran Church | D11: 59 | E11: 11800
A12: Pack | B12: 0083 | C12: Riverview United Methodist Church | D12: 45 | E12: 9000
A13: Pack | B13: 0089 | C13: Nativity Catholic Church | D13: 48 | E13: 9600
... A17: Pack | B17: 0266 | C17: LDS Church-Providence Ward-Brandon Sta | D17: 41 | E17: 8200
A18: Pack | B18: 268 | C18: LDS Church-Riverview Ward-Brandon S | D18: 9 | E18: 1800
A19: Pack | B19: 0601 | C19: LDS Church-Apollo Beach Ward-Brando | D19: 6 | E19: 1200
A20: Pack | B20: 0603 | C20: Boyette Springs Elementary School P | D20: 150 | E20: 30000
A21: Pack | B21: 0604 | C21: Lithia Springs Elementary School PT | D21: 80 | E21: 16000
A22: Pack | B22: 0606 | C22: American Legion Post 148 | D22: 0 | E22: 0
A23: Pack | B23: 0607 | C23: South Shore United Methodist Church | D23: 33 | E23: 6600
A24: Pack | B24: 0609 | C24: South Shore United Methodist Church | D24: 54 | E24: 10800
A25: Pack | B25: 0610 | C25: St Stephen Catholic Church | D25: 52 | E25: 10400
A26: Pack | B26: 0632 | C26: Fishhawk Fellowship Church | D26: 111 | E26: 22200
A27: Pack | B27: 0637 | C27: Lamb of God Lutheran Church | D27: 28 | E27: 5600
A28: Pack | B28: 0690 | C28: Citizens For Scouting | D28: 65 | E28: 13000
A29: Pack | B29: 0700 | C29: LDS Church- Plant City Ward-Brandon | D29: 1 | E29: 200
A30: Pack | B30: 0734 | C30: Cork United Methodist Church | D30: 82 | E30: 16400
... A58: Troop | B58: 0267 | C58: LDS Church-Brandon Ward-Brandon Sta | D58: 18 | E58: 3600
A59: Troop | B59: 268 | C59: LDS Church-Riverview Ward-Brandon S | D59: 17 | E59: 3400
A60: Troop | B60: 0601 | C60: LDS Church-Apollo Beach Ward-Brando | D60: 6 | E60: 1200
A61: Troop | B61: 0606 | C61: South Shore United Methodist Church | D61: 25 | E61: 5000
A62: Troop | B62: 0610 | C62: St Stephen Catholic Church | D62: 61 | E62: 12200
A63: Troop | B63: 0627 | C63: Elks Lodge #2383 of Brandon | D63: 14 | E63: 2800
A64: Troop | B64: 0632 | C64: Fishhawk Fellowship Church | D64: 78 | E64: 15600
A65: Troop | B65: 0661 | C65: Matthew A Knight Foundation | D65: 22 | E65: 4400
A66: Troop | B66: 0665 | C66: Oakwood Baptist Church | D66: 28 | E66: 5600
A67: Troop | B67: 0686 | C67: Brandon Christian Fellowship Inc | D67: 31 | E67: 6200
A68: Troop | B68: 0700 | C68: LDS Church- Plant City Ward-Brandon | D68: 7 | E68: 1400
A69: Troop | B69: 0734 | C69: Cork United Methodist Church | D69: 26 | E69: 5200
A70: Troop | B70: 0744 | C70: First United Methodist Church of Pl | D70: 10 | E70: 2000
A71: Troop | B71: 0797 | C71: First United Methodist Church of Se | D71: 28 | E71: 5600
... A74: Troop | B74: 2140 | C74: St Anne Catholic Church | D74: 5 | E74: 1000

Sheet Withlacoochee
A1: unit | B1: number | C1: organization_name | D1: Year end number | E1: Unit Goal
A2: Crew | B2: 0406 | C2: First Lutheran Church of Ridge Mano | D2: 5 | E2: 1000
A3: Pack | B3: 0071 | C3: First United Methodist Church of Br | D3: 20 | E3: 4000
A4: Pack | B4: 0302 | C4: First Presbyterian Church of Invern | D4: 18 | E4: 3600
A5: Pack | B5: 0303 | C5: Knights of Columbus St Jude Council | D5: 62 | E5: 12400
A6: Pack | B6: 0306 | C6: Wildwood United Methodist Church | D6: 18 | E6: 3600
A7: Pack | B7: 0352 | C7: LDS Church-Lecanto Ward-Leesburg St | D7: 3 | E7: 600
A8: Pack | B8: 0370 | C8: American Legion Post 155 | D8: 19 | E8: 3800
A9: Pack | B9: 0406 | C9: Ridge Manor United Methodist Church | D9: 15 | E9: 3000
A10: Pack | B10: 0415 | C10: Crystal River United Methodist Chur | D10: 17 | E10: 3400
A11: Pack | B11: 0427 | C11: St John Paul II Catholic School | D11: 8 | E11: 1600
A12: Pack | B12: 0439 | C12: First United Methodist Church of Bu | D12: 43 | E12: 8600
A13: Pack | B13: 0443 | C13: VFW Post 10209 | D13: 56 | E13: 11200
... A41: Troop | B41: 7122 | C41: VFW Post 7122 | D41: 7 | E41: 1400

Sheet FT. Brooke
A1: unit | B1: number | C1: organization_name | D1: Year end number | E1: Unit Goal
A2: Crew | B2: 0012 | C2: Troop 12 Inc | D2: 2 | E2: 400
A3: Crew | B3: 0028 | C3: Gaither High School NJROTC | D3: 66 | E3: 13200
A4: Crew | B4: 0046 | C4: First Baptist Church of Citrus Park | D4: 4 | E4: 800
A5: Crew | B5: 0127 | C5: St James United Methodist Church | D5: 6 | E5: 1200
A6: Crew | B6: 0187 | C6: Freedom High School NJROTC | D6: 32 | E6: 6400
A7: Crew | B7: 0194 | C7: Wharton High School NJROTC | E7: 0
A8: Crew | B8: 0198 | C8: LDS Church-Tampa 2nd Ward-Tampa Sta | D8: 1 | E8: 200
A9: Crew | B9: 0212 | C9: Tims Memorial Presbyterian Church | D9: 6 | E9: 1200
A10: Crew | B10: 0221 | C10: Hat Trick Theatre Productions Inc | D10: 4 | E10: 800
A11: Crew | B11: 0339 | C11: Christ Cumberland Presbyterian Chur | D11: 7 | E11: 1400
A12: Crew | B12: 0803 | C12: The Oaks of Riverview - THA | D12: 3 | E12: 600
A13: Pack | B13: 0004 | C13: Palma Ceia Presbyterian Church | D13: 88 | E13: 17600
A14: Pack | B14: 0009 | C14: American Legion Post 147 | D14: 31 | E14: 6200
A15: Pack | B15: 0010 | C15: LDS Church-Carrollwood 2nd Ward-Tam | D15: 9 | E15: 1800
A16: Pack | B16: 0012 | C16: J F Swartsel Lodge #251 F&AM | D16: 61 | E16: 12200
A17: Pack | B17: 0016 | C17: Carrollwood Seventh Day Adventist C | D17: 12 | E17: 2400
A18: Pack | B18: 0017 | C18: All Nations Outreach Church | D18: 5 | E18: 1000
A19: Pack | B19: 0018 | C19: Messiah Lutheran Church | D19: 46 | E19: 9200
... A117: Troop | B117: 0807 | C117: Tampa Housing Authority | D117: 6 | E117: 1200

Sheet Skyway
A1: unit | B1: number | C1: organization_name | D1: Year end number | E1: Unit Goal
A2: Crew | B2: 0042 | C2: WJS Adventures, Inc | D2: 5 | E2: 1000
A3: Crew | B3: 0210 | C3: Canterbury School of Florida/Couste | D3: 10 | E3: 2000
A4: Crew | B4: 0219 | C4: St Raphaels Roman Catholic Church | D4: 7 | E4: 1400
A5: Crew | B5: 0262 | C5: Hope Lutheran Church | D5: 8 | E5: 1600
A6: Crew | B6: 0396 | C6: Marine Corp League Detachment 57 | D6: 10 | E6: 2000
A7: Pack | B7: 0188 | C7: Nitram Lodge #188 F&AM | D7: 66 | E7: 13200
A8: Pack | B8: 0209 | C8: St Paul's Catholic Church | D8: 43 | E8: 8600
A9: Pack | B9: 0219 | C9: St Raphaels Roman Catholic Church | D9: 20 | E9: 4000
A10: Pack | B10: 0229 | C10: Baypoint YMCA | D10: 39 | E10: 7800
A11: Pack | B11: 0236 | C11: First United Methodist Church | D11: 22 | E11: 4400
A12: Pack | B12: 0261 | C12: Riviera United Methodist Church | D12: 30 | E12: 6000
A13: Pack | B13: 0263 | C13: Holy Family Catholic Church | D13: 26 | E13: 5200
... A15: Pack | B15: 0285 | C15: Palm Lake Christian Church | D15: 48 | E15: 9600
A16: Pack | B16: 0291 | C16: YMCA-Campbell Park of Greater St Pe | E16: 0
A17: Pack | B17: 0295 | C17: New Faith Free Methodist Church | D17: 26 | E17: 5200
A18: Pack | B18: 0301 | C18: Pasadena Presbyterian Church | D18: 23 | E18: 4600
A19: Pack | B19: 0303 | C19: Shorecrest Preparatory School | D19: 16 | E19: 3200
A20: Pack | B20: 0305 | C20: Wesley Memorial United Methodist Ch | D20: 25 | E20: 5000
A21: Pack | B21: 0306 | C21: YMCA - Woodlawn Elementary | D21: 27 | E21: 5400
A22: Pack | B22: 0307 | C22: YMCA - Lynch Elementary | D22: 32 | E22: 6400
A23: Pack | B23: 0308 | C23: YMCA - Perkins Elementary | D23: 38 | E23: 7600
A24: Pack | B24: 0309 | C24: YMCA - Maximo Peace Keepers | D24: 33 | E24: 6600
A25: Pack | B25: 0311 | C25: YMCA of Sexton Elementary School | D25: 38 | E25: 7600
A26: Pack | B26: 0318 | C26: St Lukes United Methodist Church | D26: 11 | E26: 2200
A27: Pack | B27: 0334 | C27: Clearview United Methodist Ch Mens | D27: 32 | E27: 6400
A28: Post | B28: 0980 | C28: St Petersburg Police Department | D28: 28 | E28: 5600
... A45: Troop | B45: 0367 | C45: St Judes Catholic Church | D45: 5 | E45: 1000
A46: .

Sheet Miccosukee
A1: unit | B1: number | C1: organization_name | D1: Year end number | E1: Unit Goal
A2: Crew | B2: 10 | C2: First Presbyterian Church of Dunedi | D2: 7 | E2: 1400
A3: Crew | B3: 135 | C3: Heritage United Methodist Church | D3: 10 | E3: 2000
A4: Crew | B4: 222 | C4: North Dunedin Baptist Church | D4: 17 | E4: 3400
A5: Crew | B5: 337 | C5: First Baptist Church Pinellas Park | D5: 8 | E5: 1600
A6: Crew | B6: 340 | C6: Mens Club Of Seminole United Method | E6: 0
A7: Crew | B7: 404 | C7: St Catherine Of Siena Catholic Chur | D7: 8 | E7: 1600
A8: Crew | B8: 416 | C8: Presbyterian Church Of Palm Harbor | D8: 6 | E8: 1200
A9: Crew | B9: 434 | C9: St Alfreds Episcopal Church | D9: 6 | E9: 1200
A10: Pack | B10: 9 | C10: St. Ignatius Catholic Church | D10: 13 | E10: 2600
A11: Pack | B11: 10 | C11: First Presbyterian Church of Dunedi | D11: 55 | E11: 11000
A12: Pack | B12: 26 | C12: Palm Harbor United Methodist Church | D12: 63 | E12: 12600
A13: Pack | B13: 43 | C13: Church of the Holy Spirit Inc | D13: 48 | E13: 9600
A14: Pack | B14: 48 | C14: First United Methodist Church | D14: 11 | E14: 2200
A15: Pack | B15: 64 | C15: Community United Methodist Church | D15: 11 | E15: 2200
A16: Pack | B16: 84 | C16: LDS Clearwater Ward St Pete Stake | D16: 10 | E16: 2000
A17: Pack | B17: 85 | C17: LDS Palm harbor Stake | D17: 6 | E17: 1200
A18: Pack | B18: 135 | C18: Heritage United Methodist Church | D18: 55 | E18: 11000
... A20: Pack | B20: 313 | C20: Church Of Scientology | D20: 32 | E20: 6400
A21: Pack | B21: 321 | C21: Aldersgate United Methodist Church | E21: 0
A22: Pack | B22: 337 | C22: First Baptist Church Pinellas Park | D22: 43 | E22: 8600
A23: Pack | B23: 371 | C23: Christ The King Lutheran Church | D23: 50 | E23: 10000
A24: Pack | B24: 404 | C24: St Catherine Of Siena Catholic Chur | D24: 41 | E24: 8200
A25: Pack | B25: 407 | C25: East Lake United Methodist Church | D25: 26 | E25: 5200
A26: Pack | B26: 413 | C26: Northwood Presbyterian Church | D26: 47 | E26: 9400
A27: Pack | B27: 417 | C27: Largo Elks Lodge 2159 BPOE | D27: 38 | E27: 7600
A28: Pack | B28: 422 | C28: Our Lady Of Lourdes Catholic Church | D28: 33 | E28: 6600
A29: Pack | B29: 431 | C29: Blessed Sacrament Church | E29: 0
A30: Pack | B30: 468 | C30: St Paul's United Methodist Church | D30: 19 | E30: 3800
A31: Pack | B31: 475 | C31: Lutheran Church Of The Resurrection | D31: 117 | E31: 23400
A32: Pack | B32: 484 | C32: First Lutheran Church | D32: 20 | E32: 4000
A33: Pack | B33: 487 | C33: Espiritu Santo Catholic Church | D33: 33 | E33: 6600
A34: Pack | B34: 600 | C34: Mt Olive AME Church | D34: 19 | E34: 3800
A35: Post | B35: 0900 | C35: Pinellas County Sheriffs Office | D35: 42 | E35: 8400
A36: Post | B36: 0912 | C36: Pinellas Park Police Dept | D36: 19 | E36: 3800
A37: Ship | B37: 0956 | C37: Episcopal Church Of The Ascension | D37: 19 | E37: 3800
A38: Troop | B38: 0009 | C38: St Ignatius Catholic Church | D38: 29 | E38: 5800
A39: Troop | B39: 0010 | C39: First Presbyterian Church of Dunedi | D39: 13 | E39: 2600
A40: Troop | B40: 0026 | C40: Palm Harbor United Methodist Church | D40: 31 | E40: 6200
A41: Troop | B41: 0048 | C41: First United Methodist Church | D41: 17 | E41: 3400
A42: Troop | B42: 0064 | C42: Community United Methodist Church | D42: 22 | E42: 4400
A43: Troop | B43: 0084 | C43: LDS - Clearwater Ward - St Pete Sta | D43: 16 | E43: 3200
A44: Troop | B44: 0085 | C44: LDS - Palm Harbor Ward - St Pete St | D44: 25 | E44: 5000
A45: Troop | B45: 0094 | C45: VFW Post 10094 | D45: 12 | E45: 2400
A46: Troop | B46: 0106 | C46: St Nicholas Greek Orthodox Church | D46: 8 | E46: 1600
... A68: Troop | B68: 2519 | C68: Seminole Elks Lodge #2519 | D68: 12 | E68: 2400
