BEGIN:VCALENDAR
VERSION:2.0
PRODID:-//Greater Tampa Bay Area Council - ECPv6.15.20//NONSGML v1.0//EN
CALSCALE:GREGORIAN
METHOD:PUBLISH
X-WR-CALNAME:Greater Tampa Bay Area Council
X-ORIGINAL-URL:https://tampabayscouting.org
X-WR-CALDESC:Events for Greater Tampa Bay Area Council
REFRESH-INTERVAL;VALUE=DURATION:PT1H
X-Robots-Tag:noindex
X-PUBLISHED-TTL:PT1H
BEGIN:VTIMEZONE
TZID:America/New_York
BEGIN:DAYLIGHT
TZOFFSETFROM:-0500
TZOFFSETTO:-0400
TZNAME:EDT
DTSTART:20240310T070000
END:DAYLIGHT
BEGIN:STANDARD
TZOFFSETFROM:-0400
TZOFFSETTO:-0500
TZNAME:EST
DTSTART:20241103T060000
END:STANDARD
BEGIN:DAYLIGHT
TZOFFSETFROM:-0500
TZOFFSETTO:-0400
TZNAME:EDT
DTSTART:20250309T070000
END:DAYLIGHT
BEGIN:STANDARD
TZOFFSETFROM:-0400
TZOFFSETTO:-0500
TZNAME:EST
DTSTART:20251102T060000
END:STANDARD
BEGIN:DAYLIGHT
TZOFFSETFROM:-0500
TZOFFSETTO:-0400
TZNAME:EDT
DTSTART:20260308T070000
END:DAYLIGHT
BEGIN:STANDARD
TZOFFSETFROM:-0400
TZOFFSETTO:-0500
TZNAME:EST
DTSTART:20261101T060000
END:STANDARD
END:VTIMEZONE
BEGIN:VEVENT
DTSTART;TZID=America/New_York:20250807T080000
DTEND;TZID=America/New_York:20250807T170000
DTSTAMP:20260420T002225
CREATED:20250730T182453Z
LAST-MODIFIED:20250805T155728Z
UID:10000129-1754553600-1754586000@tampabayscouting.org
SUMMARY:Citrus County School Districts Open House(s)
DESCRIPTION:Visit Us at Your School’s Open House!\nWhether you’re in elementary\, middle\, or high school\, we’ll have a Scouting table at your Open House! Stop by to learn how to join Cub Scouts\, Scouts BSA\, Venturing\, or Exploring. We’ll have registration packets\, program info\, and volunteers ready to help. This is the perfect preview before our official School Night events later this fall! \nElementary Schools (August 6\, 2025)\nOpen House for elementary schools is Wednesday\, August 6 citrusschools.org+5citrusschools.org+5fun4naturecoastkids.com+5Hillsborough County Public Schools. \n\n\nCentral Ridge Elementary – 4:00–6:00 PM \n\n\nCitrus Springs Elementary – 10:00–11:30 AM (Session 1) & 4:00–5:30 PM (Session 2) \n\n\nCrystal River Primary – 4:00–6:00 PM \n\n\nFloral City Elementary – 9:30 AM–12:00 PM \n\n\nForest Ridge Elementary – 4:00–6:00 PM \n\n\nHernando Elementary – 4:00–6:00 PM \n\n\nHomosassa Elementary – Pre‑K/Kindergarten 3:00–4:00 PM; Grades 1–5 4:00–6:00 PM \n\n\nInverness Primary – 4:00–6:00 PM \n\n\nLecanto Primary – 4:00–6:00 PM \n\n\nPleasant Grove Elementary – New Pre‑K/K students 3:30–4:00 PM; others 4:00–6:00 PM \n\n\nRock Crusher Elementary – 4:30–6:30 PM \n\n\n\nMiddle Schools (August 7\, 2025)\nMiddle school Open Houses are Thursday\, August 7 \n\n\nCitrus Springs Middle School \n\n\nIncoming 6th grade orientation: 2:30–4:00 PM \n\n\nAll students: 4:00–6:00 PM \n\n\n\n\nCrystal River Middle School \n\n\n6th grade (students only): 11:00 AM–2:00 PM; with parents 2:00–3:45 PM \n\n\n7th grade: 4:00–5:00 PM \n\n\n8th grade: 5:00–6:00 PM \n\n\n\n\nInverness Middle School \n\n\n6th grade (students only): 2:00–3:00 PM; with parents 3:00–4:00 PM \n\n\n7th & 8th grades: 5:00–6:00 PM \n\n\n\n\nLecanto Middle School \n\n\n6th grade (students only): 2:00–3:30 PM \n\n\nAll grades: 3:30–6:00 PM \n\n\n\n\n\nNo Scout Table at These Locations\n\n\nCitrus eSchool – open house 3:00–4:00 PM for elementary & middle school \n\n\nAcademy of Environmental Science (AES) – open house 2:00–4:00 PM for all students
URL:https://tampabayscouting.org/event/citrus-county-school-open-houses/2025-08-07
LOCATION:Multiple Citrus County Schools
ATTACH;FMTTYPE=image/png:https://tampabayscouting.org/wp-content/uploads/2025/07/JSN-Web-Squares6.png
ORGANIZER;CN="Emily Thomas":MAILTO:emily.thomas@scouting.org
END:VEVENT
BEGIN:VEVENT
DTSTART;TZID=America/New_York:20250806T080000
DTEND;TZID=America/New_York:20250806T170000
DTSTAMP:20260420T002225
CREATED:20250730T182453Z
LAST-MODIFIED:20250805T155728Z
UID:10000128-1754467200-1754499600@tampabayscouting.org
SUMMARY:Citrus County School Districts Open House(s)
DESCRIPTION:Visit Us at Your School’s Open House!\nWhether you’re in elementary\, middle\, or high school\, we’ll have a Scouting table at your Open House! Stop by to learn how to join Cub Scouts\, Scouts BSA\, Venturing\, or Exploring. We’ll have registration packets\, program info\, and volunteers ready to help. This is the perfect preview before our official School Night events later this fall! \nElementary Schools (August 6\, 2025)\nOpen House for elementary schools is Wednesday\, August 6 citrusschools.org+5citrusschools.org+5fun4naturecoastkids.com+5Hillsborough County Public Schools. \n\n\nCentral Ridge Elementary – 4:00–6:00 PM \n\n\nCitrus Springs Elementary – 10:00–11:30 AM (Session 1) & 4:00–5:30 PM (Session 2) \n\n\nCrystal River Primary – 4:00–6:00 PM \n\n\nFloral City Elementary – 9:30 AM–12:00 PM \n\n\nForest Ridge Elementary – 4:00–6:00 PM \n\n\nHernando Elementary – 4:00–6:00 PM \n\n\nHomosassa Elementary – Pre‑K/Kindergarten 3:00–4:00 PM; Grades 1–5 4:00–6:00 PM \n\n\nInverness Primary – 4:00–6:00 PM \n\n\nLecanto Primary – 4:00–6:00 PM \n\n\nPleasant Grove Elementary – New Pre‑K/K students 3:30–4:00 PM; others 4:00–6:00 PM \n\n\nRock Crusher Elementary – 4:30–6:30 PM \n\n\n\nMiddle Schools (August 7\, 2025)\nMiddle school Open Houses are Thursday\, August 7 \n\n\nCitrus Springs Middle School \n\n\nIncoming 6th grade orientation: 2:30–4:00 PM \n\n\nAll students: 4:00–6:00 PM \n\n\n\n\nCrystal River Middle School \n\n\n6th grade (students only): 11:00 AM–2:00 PM; with parents 2:00–3:45 PM \n\n\n7th grade: 4:00–5:00 PM \n\n\n8th grade: 5:00–6:00 PM \n\n\n\n\nInverness Middle School \n\n\n6th grade (students only): 2:00–3:00 PM; with parents 3:00–4:00 PM \n\n\n7th & 8th grades: 5:00–6:00 PM \n\n\n\n\nLecanto Middle School \n\n\n6th grade (students only): 2:00–3:30 PM \n\n\nAll grades: 3:30–6:00 PM \n\n\n\n\n\nNo Scout Table at These Locations\n\n\nCitrus eSchool – open house 3:00–4:00 PM for elementary & middle school \n\n\nAcademy of Environmental Science (AES) – open house 2:00–4:00 PM for all students
URL:https://tampabayscouting.org/event/citrus-county-school-open-houses/2025-08-06
LOCATION:Multiple Citrus County Schools
ATTACH;FMTTYPE=image/png:https://tampabayscouting.org/wp-content/uploads/2025/07/JSN-Web-Squares6.png
ORGANIZER;CN="Emily Thomas":MAILTO:emily.thomas@scouting.org
END:VEVENT
END:VCALENDAR