BEGIN:VCALENDAR
VERSION:2.0
PRODID:-//Greater Tampa Bay Area Council - ECPv6.15.20//NONSGML v1.0//EN
CALSCALE:GREGORIAN
METHOD:PUBLISH
X-ORIGINAL-URL:https://tampabayscouting.org
X-WR-CALDESC:Events for Greater Tampa Bay Area Council
REFRESH-INTERVAL;VALUE=DURATION:PT1H
X-Robots-Tag:noindex
X-PUBLISHED-TTL:PT1H
BEGIN:VTIMEZONE
TZID:America/New_York
BEGIN:DAYLIGHT
TZOFFSETFROM:-0500
TZOFFSETTO:-0400
TZNAME:EDT
DTSTART:20240310T070000
END:DAYLIGHT
BEGIN:STANDARD
TZOFFSETFROM:-0400
TZOFFSETTO:-0500
TZNAME:EST
DTSTART:20241103T060000
END:STANDARD
BEGIN:DAYLIGHT
TZOFFSETFROM:-0500
TZOFFSETTO:-0400
TZNAME:EDT
DTSTART:20250309T070000
END:DAYLIGHT
BEGIN:STANDARD
TZOFFSETFROM:-0400
TZOFFSETTO:-0500
TZNAME:EST
DTSTART:20251102T060000
END:STANDARD
BEGIN:DAYLIGHT
TZOFFSETFROM:-0500
TZOFFSETTO:-0400
TZNAME:EDT
DTSTART:20260308T070000
END:DAYLIGHT
BEGIN:STANDARD
TZOFFSETFROM:-0400
TZOFFSETTO:-0500
TZNAME:EST
DTSTART:20261101T060000
END:STANDARD
END:VTIMEZONE
BEGIN:VEVENT
DTSTART;TZID=America/New_York:20250816T183000
DTEND;TZID=America/New_York:20250816T193000
DTSTAMP:20260419T125703
CREATED:20250808T013321Z
LAST-MODIFIED:20250808T013620Z
UID:10000176-1755369000-1755372600@tampabayscouting.org
SUMMARY:Join Cub Scout Pack 708- Boy Cub Scout Pack
DESCRIPTION:Is your son ready for a grand adventure? Look no further and join Cub Scout Pack 708! For more information contact Lexxy Murphy\, 352-410-3900\, pack708cm@gmail.com. This unit is boys only. \nWhat to Expect: \n\nInteractive Activities: Engage in hands-on activities and workshops that give a taste of the Scouting experience.\nMeet Our Leaders: Talk to our friendly Scout leaders and learn about the various programs and opportunities available.\nInformation Session: Learn about the different Scouting programs. Discover how Scouting can benefit your child’s development and growth.\nRegistration Assistance: On-site assistance for registration to make joining Scouting easy and convenient.\nFree for All: These events are free and open to all non-scouting boys & their families.\n\nWhy Attend: \n\nDiscover the adventure and fun that Scouting offers.\nLearn about our values-driven programs that help develop leadership\, character\, and skills.\nFind out how Scouting can be a positive influence in your child’s life\n\nJoin Scouting Nights\, led by our district and council representatives to ensure a welcoming and informative experience for all attendees. For more details\, please visit our website or contact the district executive below.
URL:https://tampabayscouting.org/event/join-cub-scout-pack-708-boy-cub-scout-pack
LOCATION:Marine Corps League Detachment 708\, 8405 Sunshine Grove Road\, FL\, Brooksville\, FL\, 34613\, United States
CATEGORIES:Citrus, Hernando and Sumter counties,Join Scouting Events
ATTACH;FMTTYPE=image/png:https://tampabayscouting.org/wp-content/uploads/2025/07/JSN-Web-Squares11.png
ORGANIZER;CN="Emily Thomas":MAILTO:emily.thomas@scouting.org
END:VEVENT
END:VCALENDAR