BEGIN:VCALENDAR
VERSION:2.0
PRODID:-//Greater Tampa Bay Area Council - ECPv6.15.20//NONSGML v1.0//EN
CALSCALE:GREGORIAN
METHOD:PUBLISH
X-ORIGINAL-URL:https://tampabayscouting.org
X-WR-CALDESC:Events for Greater Tampa Bay Area Council
REFRESH-INTERVAL;VALUE=DURATION:PT1H
X-Robots-Tag:noindex
X-PUBLISHED-TTL:PT1H
BEGIN:VTIMEZONE
TZID:America/New_York
BEGIN:DAYLIGHT
TZOFFSETFROM:-0500
TZOFFSETTO:-0400
TZNAME:EDT
DTSTART:20230312T070000
END:DAYLIGHT
BEGIN:STANDARD
TZOFFSETFROM:-0400
TZOFFSETTO:-0500
TZNAME:EST
DTSTART:20231105T060000
END:STANDARD
BEGIN:DAYLIGHT
TZOFFSETFROM:-0500
TZOFFSETTO:-0400
TZNAME:EDT
DTSTART:20240310T070000
END:DAYLIGHT
BEGIN:STANDARD
TZOFFSETFROM:-0400
TZOFFSETTO:-0500
TZNAME:EST
DTSTART:20241103T060000
END:STANDARD
BEGIN:DAYLIGHT
TZOFFSETFROM:-0500
TZOFFSETTO:-0400
TZNAME:EDT
DTSTART:20250309T070000
END:DAYLIGHT
BEGIN:STANDARD
TZOFFSETFROM:-0400
TZOFFSETTO:-0500
TZNAME:EST
DTSTART:20251102T060000
END:STANDARD
BEGIN:DAYLIGHT
TZOFFSETFROM:-0500
TZOFFSETTO:-0400
TZNAME:EDT
DTSTART:20260308T070000
END:DAYLIGHT
BEGIN:STANDARD
TZOFFSETFROM:-0400
TZOFFSETTO:-0500
TZNAME:EST
DTSTART:20261101T060000
END:STANDARD
END:VTIMEZONE
BEGIN:VEVENT
DTSTART;TZID=America/New_York:20250806T080000
DTEND;TZID=America/New_York:20250806T170000
DTSTAMP:20260419T211719
CREATED:20250722T141730Z
LAST-MODIFIED:20250801T140713Z
UID:10000101-1754467200-1754499600@tampabayscouting.org
SUMMARY:Hernando County School Districts Open House(s)
DESCRIPTION:Visit Us at Your School’s Open House!Whether you’re in elementary\, middle\, or high school\, we’ll have a Scouting table at your Open House! Stop by to learn how to join Cub Scouts\, Scouts BSA\, Venturing\, or Exploring. We’ll have registration packets\, program info\, and volunteers ready to help. This is the perfect preview before our official School Night events later this fall! \nElementary Schools\n\n\nBrooksville – Aug 7 \n\n\nKindergarten Orientation: 3:15–4:00 PM \n\n\nPre-K & 1st–5th Grade: 4:00–6:00 PM \n\n\n\n\nChocachatti – Aug 8\, 10:00 AM–12:00 PM \n\n\nDeltona – Aug 7\, 9:00–11:00 AM \n\n\nEastside \n\n\nAug 6: Pre-K/VPK/Kindergarten: 5:00–7:00 PM \n\n\nAug 7: \n\n\nA–F: 10:00 AM–Noon \n\n\nG–M: 1:00–3:00 PM \n\n\nN–Z: 4:00–6:00 PM \n\n\n\n\n\n\nJ.D. Floyd – Aug 7 \n\n\nPre-K–1st Grade: 9:00–11:00 AM \n\n\n2nd–5th Grade: 1:00–3:00 PM \n\n\nAll Grades: 5:00–7:00 PM \n\n\n\n\nMoton – Aug 7 \n\n\nGrades 2–5: 1:00–3:00 PM \n\n\nPre-K\, Kindergarten\, 1st Grade: 2:00–4:00 PM \n\n\nAll Grades: 2:00–4:00 PM \n\n\n\n\nPine Grove – Aug 7\, 4:00–6:00 PM \n\n\nSpring Hill – Aug 7 \n\n\nPre-K & VPK: 2:00–3:00 PM \n\n\nK–5th by Last Name: \n\n\nA–F: 3:15–4:15 PM \n\n\nG–N: 4:30–5:30 PM \n\n\nO–Z: 5:45–6:45 PM \n\n\n\n\nAug 6: Kindergarten Sneak Peek: 5:30–6:30 PM \n\n\n\n\nSuncoast \n\n\nAug 6: Kindergarten: 5:30–7:00 PM \n\n\nAug 7: 1st–5th Grade: 1:00–3:00 PM & 5:00–7:00 PM \n\n\n\n\nWestside – Aug 7\, 3:30–5:30 PM \n\n\n\nK–8 Schools\n\n\nChallenger \n\n\nAug 7: K–2nd Grade: 3:30–5:30 PM \n\n\nAug 8: 3rd–8th Grade: 9:30–11:30 AM \n\n\n\n\nExplorer \n\n\nAug 6: Pre-K & Kindergarten: 4:30–6:00 PM \n\n\nAug 7: 1st–8th Grade: 9:30 AM–Noon & 4:00–6:00 PM \n\n\n\n\nWinding Waters – Aug 7 \n\n\nVPK & Kindergarten Sneak Peek: 8:00–9:00 AM \n\n\nBy Last Name: \n\n\nA–D: 9:00–10:30 AM \n\n\nE–L: 10:45 AM–12:00 PM \n\n\nM–R: 1:00–2:30 PM \n\n\nS–Z: 2:45–4:15 PM \n\n\n\n\n\n\n\nMiddle Schools\n\n\nD.S. Parrott \n\n\nAug 7: \n\n\n6th Grade: 1:00–2:30 PM \n\n\n7th Grade: 2:30–3:30 PM \n\n\n8th Grade: 3:30–4:30 PM \n\n\n\n\nAug 28: Open House: 6:00–8:00 PM \n\n\n\n\nFox Chapel \n\n\nAug 7: Schedule Pick-Up: 10:00 AM–1:00 PM \n\n\nAug 28: Open House: 6:00 PM \n\n\n\n\nPowell \n\n\nAug 7: Schedule Pick-Up: 3:00–6:00 PM \n\n\nSep 10: Open House: 6:00 PM \n\n\n\n\nWest Hernando – Aug 7\, 3:00–5:00 PM \n\n\n\nHigh Schools\n\n\nCentral – Sept 9\, 6:00–8:00 PM \n\n\nF.W. Springstead \n\n\nAug 8: Open Campus: 1:00 PM \n\n\nSept 9: Open House: 5:30–8:30 PM \n\n\n\n\nHernando – Aug 8 \n\n\n9th Grade: 1:00–2:00 PM \n\n\n10th–12th Grades: 2:30–4:00 PM \n\n\n\n\nNature Coast \n\n\nAug 7: Open Campus for 9th Graders \n\n\nSept 3: Open House: 6:00–7:30 PM \n\n\n\n\nWeeki Wachee – Aug 8\, 12:30–3:00 PM \n\n\n\nNo Scout Table at the Following Locations\n\n\nEndeavor & Discovery Academies \n\n\nHernando eSchool
URL:https://tampabayscouting.org/event/hernando-county-school-districts-open-houses/2025-08-06
LOCATION:Multple Hernando County Schools
ATTACH;FMTTYPE=image/png:https://tampabayscouting.org/wp-content/uploads/2025/07/JSN-Web-Squares22.png
ORGANIZER;CN="Emily Thomas":MAILTO:emily.thomas@scouting.org
END:VEVENT
BEGIN:VEVENT
DTSTART;TZID=America/New_York:20250731T150000
DTEND;TZID=America/New_York:20250731T183000
DTSTAMP:20260419T211719
CREATED:20250723T144513Z
LAST-MODIFIED:20250723T152207Z
UID:10000105-1753974000-1753986600@tampabayscouting.org
SUMMARY:Sand Hill Scout Reservation
DESCRIPTION:Come visit us at Camp! This is the perfect opportunity for families to discover the fun\, adventure\, and lifelong skills that Scouting offers. Whether your child is interested in outdoor adventures\, learning new skills\, or making lasting friendships\, Scouting has something for everyone. \nWhat to Expect: \n\nA table with information and a Scouting professional ready to help you sign up!\n\nWhy Attend: \n\nDiscover the adventure and fun that Scouting offers.\nLearn about our values-driven programs that help develop leadership\, character\, and skills.\nFind out how Scouting can be a positive influence in your child’s life\n\nJoin Scouting Nights\, led by our district and council representatives to ensure a welcoming and informative experience for all attendees. For more details\, please visit our website or contact the district executive below.
URL:https://tampabayscouting.org/event/sand-hill-scout-reservation-2
LOCATION:Sand Hill Scout Reservation\, 11210 Cortez Blvd\, Brooksville\, 34613\, United States
CATEGORIES:Citrus, Hernando and Sumter counties,Join Scouting Events
ATTACH;FMTTYPE=image/png:https://tampabayscouting.org/wp-content/uploads/2025/07/JSN-Web-Squares7.png
ORGANIZER;CN="Emily Thomas":MAILTO:emily.thomas@scouting.org
END:VEVENT
BEGIN:VEVENT
DTSTART;TZID=America/New_York:20250730T150000
DTEND;TZID=America/New_York:20250730T183000
DTSTAMP:20260419T211719
CREATED:20250723T144022Z
LAST-MODIFIED:20250723T144402Z
UID:10000104-1753887600-1753900200@tampabayscouting.org
SUMMARY:Sand Hill Scout Reservation
DESCRIPTION:Come visit us at Camp! This is the perfect opportunity for families to discover the fun\, adventure\, and lifelong skills that Scouting offers. Whether your child is interested in outdoor adventures\, learning new skills\, or making lasting friendships\, Scouting has something for everyone. \nWhat to Expect: \n\nA table with information and a Scouting professional ready to help you sign up!\n\nWhy Attend: \n\nDiscover the adventure and fun that Scouting offers.\nLearn about our values-driven programs that help develop leadership\, character\, and skills.\nFind out how Scouting can be a positive influence in your child’s life\n\nJoin Scouting Nights\, led by our district and council representatives to ensure a welcoming and informative experience for all attendees. For more details\, please visit our website or contact the district executive below.
URL:https://tampabayscouting.org/event/sand-hill-scout-reservation
LOCATION:Sand Hill Scout Reservation\, 11210 Cortez Blvd\, Brooksville\, 34613\, United States
CATEGORIES:Citrus, Hernando and Sumter counties,Join Scouting Events
ATTACH;FMTTYPE=image/png:https://tampabayscouting.org/wp-content/uploads/2025/07/JSN-Web-Squares11.png
ORGANIZER;CN="Emily Thomas":MAILTO:emily.thomas@scouting.org
END:VEVENT
BEGIN:VEVENT
DTSTART;TZID=America/New_York:20240910T180000
DTEND;TZID=America/New_York:20240910T180000
DTSTAMP:20260419T211719
CREATED:20240725T155345Z
LAST-MODIFIED:20240730T160720Z
UID:10000008-1725991200-1725991200@tampabayscouting.org
SUMMARY:Floral City Elementary
DESCRIPTION:Join us for our exciting Join Scouting Night! This is the perfect opportunity for families to discover the fun\, adventure\, and lifelong skills that Scouting offers. Whether your child is interested in outdoor adventures\, learning new skills\, or making lasting friendships\, Scouting has something for everyone. \nWhat to Expect: \n\nInteractive Activities: Engage in hands-on activities and workshops that give a taste of the Scouting experience.\nMeet Our Leaders: Talk to our friendly Scout leaders and learn about the various programs and opportunities available.\nInformation Session: Learn about the different Scouting programs. Discover how Scouting can benefit your child’s development and growth.\nRegistration Assistance: On-site assistance for registration to make joining Scouting easy and convenient.\nFree for All: These events are free and open to all non-scouting youth and their families.\n\nWhy Attend: \n\nDiscover the adventure and fun that Scouting offers.\nMeet Scouts from a local Pack!\nLearn about our values-driven programs that help develop leadership\, character\, and skills.\nFind out how Scouting can be a positive influence on your child’s life\n\nJoin Scouting Nights\, led by our district and council representatives to ensure a welcoming and informative experience for all attendees. For more details\, please visit our website or contact the district executive below.
URL:https://tampabayscouting.org/event/floral-city-elementary
LOCATION:Floral City United Methodist Church\, 8478 E. Marvin St\, Floral City\, FL\, 34436\, United States
CATEGORIES:Citrus, Hernando and Sumter counties
ATTACH;FMTTYPE=image/jpeg:https://tampabayscouting.org/wp-content/uploads/2024/03/12.jpg
ORGANIZER;CN="Emily Thomas":MAILTO:emily.thomas@scouting.org
END:VEVENT
BEGIN:VEVENT
DTSTART;TZID=America/New_York:20240829T184500
DTEND;TZID=America/New_York:20240829T200000
DTSTAMP:20260419T211719
CREATED:20240725T154654Z
LAST-MODIFIED:20240730T162916Z
UID:10000007-1724957100-1724961600@tampabayscouting.org
SUMMARY:JD Floyd Elementary School
DESCRIPTION:Join us for our exciting Join Scouting Night! This is the perfect opportunity for families to discover the fun\, adventure\, and lifelong skills Scouting offers. Whether your child is interested in outdoor adventures\, learning new skills\, or making lasting friendships\, Scouting has something for everyone. \nWhat to Expect: \n\nInteractive Activities: Engage in hands-on activities and workshops that give a taste of the Scouting experience.\nMeet Our Leaders: Talk to our friendly Scout leaders and learn about the various programs and opportunities available.\nInformation Session: Learn about the different Scouting programs. Discover how Scouting can benefit your child’s development and growth.\nRegistration Assistance: On-site assistance for registration to make joining Scouting easy and convenient.\nFree for All: These events are free and open to all non-scouting youth and their families.\n\nWhy Attend: \n\nDiscover the adventure and fun that Scouting offers.\nMeet Scouts from a local Pack!\nLearn about our values-driven programs that help develop leadership\, character\, and skills.\nFind out how Scouting can be a positive influence on your child’s life\n\nJoin Scouting Nights\, led by our district and council representatives to ensure a welcoming and informative experience for all attendees. For more details\, please visit our website or contact the district executive below.
URL:https://tampabayscouting.org/event/j-d-floyd-elementary
LOCATION:VFW Post 8681\, 18940 Drayton St. Spring HIll FL\, Florida\, Spring Hill\, 34610\, United States
CATEGORIES:Citrus, Hernando and Sumter counties
ATTACH;FMTTYPE=image/jpeg:https://tampabayscouting.org/wp-content/uploads/2024/03/9.jpg
ORGANIZER;CN="Emily Thomas":MAILTO:emily.thomas@scouting.org
END:VEVENT
BEGIN:VEVENT
DTSTART;TZID=America/New_York:20240821T183000
DTEND;TZID=America/New_York:20240821T183000
DTSTAMP:20260419T211719
CREATED:20240725T154223Z
LAST-MODIFIED:20240802T152420Z
UID:10000016-1724265000-1724265000@tampabayscouting.org
SUMMARY:Westside Elementary
DESCRIPTION:Join us for our exciting Join Scouting Night! This is the perfect opportunity for families to discover the fun\, adventure\, and lifelong skills that Scouting offers. Whether your child is interested in outdoor adventures\, learning new skills\, or making lasting friendships\, Scouting has something for everyone. \nWhat to Expect: \n\nInteractive Activities: Engage in hands-on activities and workshops that give a taste of the Scouting experience.\nMeet Our Leaders: Talk to our friendly Scout leaders and learn about the various programs and opportunities available.\nInformation Session: Learn about the different Scouting programs. Discover how Scouting can benefit your child’s development and growth.\nRegistration Assistance: On-site assistance for registration to make joining Scouting easy and convenient.\nFree for All: These events are free and open to all non-scouting youth and their families.\n\nWhy Attend: \n\nDiscover the adventure and fun that Scouting offers.\nLearn about our values-driven programs that help develop leadership\, character\, and skills.\nFind out how Scouting can be a positive influence on your child’s life\n\nJoin Scouting Nights\, led by our district and council representatives to ensure a welcoming and informative experience for all attendees. For more details\, please visit our website or contact the district executive below.
URL:https://tampabayscouting.org/event/westside-elementary
LOCATION:Westside Elementary\, 5400 Applegate Drive\, Spring Hill\, FL\, 34606\, United States
CATEGORIES:Hardee County, Highlands County & East Polk
ATTACH;FMTTYPE=image/jpeg:https://tampabayscouting.org/wp-content/uploads/2024/03/13.jpg
ORGANIZER;CN="Emily Thomas":MAILTO:emily.thomas@scouting.org
END:VEVENT
BEGIN:VEVENT
DTSTART;VALUE=DATE:20240809
DTEND;VALUE=DATE:20240810
DTSTAMP:20260419T211719
CREATED:20240730T162032Z
LAST-MODIFIED:20240731T150018Z
UID:10000019-1723215600-1723230000@tampabayscouting.org
SUMMARY:Open House - Citrus\, Hernando and Sumter Counties
DESCRIPTION:We’re thrilled to invite you to visit our Scouting registration booths at the upcoming school open houses! \nDiscover the incredible experiences and lifelong skills that Scouting offers. Scouting has something for everyone\, from exciting outdoor activities to valuable life lessons. \nFind Our Booths At Your School Open House: \n\nMeet our dedicated leaders and local unit members\nLearn about our programs\nGet answers to all your Scouting questions\n\nDon’t miss this chance to embark on an adventure that builds character\, fosters citizenship\, and promotes fitness. We can’t wait to see you there! \nLearn more at tampabayscouting.org/beascout. Find your School open house date here: \n\n\n\nSchool Name\nOpen House Date\nUnit\n\n\n\n\nBrooksville Elementary\nAugust 7th\, 4:00-5:30 PM | August 8th\, 4:00-6:00 PM\nPack 71\n\n\nEastside Elementary\nAugust 8th\, 4:00-6:00 PM\nPack 71\n\n\nWestside Elementary\nAugust 8th\, 9:00-10:30 AM | 1:00-3:00 PM | 5:00-7:00 PM\nPack 8681\n\n\nDeltona Elementary\nAugust 8th\, 4:00-6:00 PM\nPack 43\n\n\nGulf Coast Elementary\nAugust 8th\, 4:00-6:00 PM\nPack 8681\n\n\nPine Grove Elementary\nAugust 8th\, 4:00-6:00 PM\nPack 462\n\n\nRock Crusher Elementary\nAugust 8th\, 4:30-6:30 PM\nPack 2693\n\n\nSuncoast Elementary\nAugust 8th\, 4:00-6:00 PM\nPack 975\n\n\nFloral City Elementary\nAugust 8th\, 2:00-5:00 PM\nPack 7122\n\n\nCitrus Springs Middle School\nAugust 8th\, 4:30-6:30 PM\nPack 462/975\n\n\nHernando Elementary\nAugust 8th\, 4:00-6:00 PM\nPack 975\n\n\nCitrus Springs Elementary\nAugust 8th\, 10:00-11:30 AM | 4:00-5:30 PM\nPack 462\n\n\nHomosassa Elementary\nAugust 8th\, 4:30-6:30 PM\nPack 2693\n\n\nFox Chapel Middle School\nAugust 9th\, 3:00-7:00 PM\nPack 43\n\n\nWestside Elementary\nAugust 21st\, 6:30 PM\nPack 8681\n\n\nFloral City United Methodist Church\nSeptember 10th\, 6:00 PM\nPack 7122\n\n\nParrot Middle School\nTitle One Night in September\nTroop 71\n\n\nWest Hernando Middle School\nTBD\nTroop 443
URL:https://tampabayscouting.org/event/open-house-withlacoochee/2024-08-09
LOCATION:Brooksville Elementary School\, 885 N Broad St\, Brooksville\, FL\, Brooksville\, Florida\, 34601\, United States
CATEGORIES:Citrus, Hernando and Sumter counties
ATTACH;FMTTYPE=image/jpeg:https://tampabayscouting.org/wp-content/uploads/2024/03/11.jpg
ORGANIZER;CN="Emily Thomas":MAILTO:emily.thomas@scouting.org
END:VEVENT
BEGIN:VEVENT
DTSTART;VALUE=DATE:20240808
DTEND;VALUE=DATE:20240809
DTSTAMP:20260419T211719
CREATED:20240730T162032Z
LAST-MODIFIED:20240731T150018Z
UID:10000018-1723125600-1723140000@tampabayscouting.org
SUMMARY:Open House - Citrus\, Hernando and Sumter Counties
DESCRIPTION:We’re thrilled to invite you to visit our Scouting registration booths at the upcoming school open houses! \nDiscover the incredible experiences and lifelong skills that Scouting offers. Scouting has something for everyone\, from exciting outdoor activities to valuable life lessons. \nFind Our Booths At Your School Open House: \n\nMeet our dedicated leaders and local unit members\nLearn about our programs\nGet answers to all your Scouting questions\n\nDon’t miss this chance to embark on an adventure that builds character\, fosters citizenship\, and promotes fitness. We can’t wait to see you there! \nLearn more at tampabayscouting.org/beascout. Find your School open house date here: \n\n\n\nSchool Name\nOpen House Date\nUnit\n\n\n\n\nBrooksville Elementary\nAugust 7th\, 4:00-5:30 PM | August 8th\, 4:00-6:00 PM\nPack 71\n\n\nEastside Elementary\nAugust 8th\, 4:00-6:00 PM\nPack 71\n\n\nWestside Elementary\nAugust 8th\, 9:00-10:30 AM | 1:00-3:00 PM | 5:00-7:00 PM\nPack 8681\n\n\nDeltona Elementary\nAugust 8th\, 4:00-6:00 PM\nPack 43\n\n\nGulf Coast Elementary\nAugust 8th\, 4:00-6:00 PM\nPack 8681\n\n\nPine Grove Elementary\nAugust 8th\, 4:00-6:00 PM\nPack 462\n\n\nRock Crusher Elementary\nAugust 8th\, 4:30-6:30 PM\nPack 2693\n\n\nSuncoast Elementary\nAugust 8th\, 4:00-6:00 PM\nPack 975\n\n\nFloral City Elementary\nAugust 8th\, 2:00-5:00 PM\nPack 7122\n\n\nCitrus Springs Middle School\nAugust 8th\, 4:30-6:30 PM\nPack 462/975\n\n\nHernando Elementary\nAugust 8th\, 4:00-6:00 PM\nPack 975\n\n\nCitrus Springs Elementary\nAugust 8th\, 10:00-11:30 AM | 4:00-5:30 PM\nPack 462\n\n\nHomosassa Elementary\nAugust 8th\, 4:30-6:30 PM\nPack 2693\n\n\nFox Chapel Middle School\nAugust 9th\, 3:00-7:00 PM\nPack 43\n\n\nWestside Elementary\nAugust 21st\, 6:30 PM\nPack 8681\n\n\nFloral City United Methodist Church\nSeptember 10th\, 6:00 PM\nPack 7122\n\n\nParrot Middle School\nTitle One Night in September\nTroop 71\n\n\nWest Hernando Middle School\nTBD\nTroop 443
URL:https://tampabayscouting.org/event/open-house-withlacoochee/2024-08-08
LOCATION:Brooksville Elementary School\, 885 N Broad St\, Brooksville\, FL\, Brooksville\, Florida\, 34601\, United States
CATEGORIES:Citrus, Hernando and Sumter counties
ATTACH;FMTTYPE=image/jpeg:https://tampabayscouting.org/wp-content/uploads/2024/03/11.jpg
ORGANIZER;CN="Emily Thomas":MAILTO:emily.thomas@scouting.org
END:VEVENT
BEGIN:VEVENT
DTSTART;VALUE=DATE:20240807
DTEND;VALUE=DATE:20240808
DTSTAMP:20260419T211719
CREATED:20240730T162032Z
LAST-MODIFIED:20240731T150018Z
UID:10000017-1722988800-1723075199@tampabayscouting.org
SUMMARY:Open House - Citrus\, Hernando and Sumter Counties
DESCRIPTION:We’re thrilled to invite you to visit our Scouting registration booths at the upcoming school open houses! \nDiscover the incredible experiences and lifelong skills that Scouting offers. Scouting has something for everyone\, from exciting outdoor activities to valuable life lessons. \nFind Our Booths At Your School Open House: \n\nMeet our dedicated leaders and local unit members\nLearn about our programs\nGet answers to all your Scouting questions\n\nDon’t miss this chance to embark on an adventure that builds character\, fosters citizenship\, and promotes fitness. We can’t wait to see you there! \nLearn more at tampabayscouting.org/beascout. Find your School open house date here: \n\n\n\nSchool Name\nOpen House Date\nUnit\n\n\n\n\nBrooksville Elementary\nAugust 7th\, 4:00-5:30 PM | August 8th\, 4:00-6:00 PM\nPack 71\n\n\nEastside Elementary\nAugust 8th\, 4:00-6:00 PM\nPack 71\n\n\nWestside Elementary\nAugust 8th\, 9:00-10:30 AM | 1:00-3:00 PM | 5:00-7:00 PM\nPack 8681\n\n\nDeltona Elementary\nAugust 8th\, 4:00-6:00 PM\nPack 43\n\n\nGulf Coast Elementary\nAugust 8th\, 4:00-6:00 PM\nPack 8681\n\n\nPine Grove Elementary\nAugust 8th\, 4:00-6:00 PM\nPack 462\n\n\nRock Crusher Elementary\nAugust 8th\, 4:30-6:30 PM\nPack 2693\n\n\nSuncoast Elementary\nAugust 8th\, 4:00-6:00 PM\nPack 975\n\n\nFloral City Elementary\nAugust 8th\, 2:00-5:00 PM\nPack 7122\n\n\nCitrus Springs Middle School\nAugust 8th\, 4:30-6:30 PM\nPack 462/975\n\n\nHernando Elementary\nAugust 8th\, 4:00-6:00 PM\nPack 975\n\n\nCitrus Springs Elementary\nAugust 8th\, 10:00-11:30 AM | 4:00-5:30 PM\nPack 462\n\n\nHomosassa Elementary\nAugust 8th\, 4:30-6:30 PM\nPack 2693\n\n\nFox Chapel Middle School\nAugust 9th\, 3:00-7:00 PM\nPack 43\n\n\nWestside Elementary\nAugust 21st\, 6:30 PM\nPack 8681\n\n\nFloral City United Methodist Church\nSeptember 10th\, 6:00 PM\nPack 7122\n\n\nParrot Middle School\nTitle One Night in September\nTroop 71\n\n\nWest Hernando Middle School\nTBD\nTroop 443
URL:https://tampabayscouting.org/event/open-house-withlacoochee/2024-08-07
LOCATION:Brooksville Elementary School\, 885 N Broad St\, Brooksville\, FL\, Brooksville\, Florida\, 34601\, United States
CATEGORIES:Citrus, Hernando and Sumter counties
ATTACH;FMTTYPE=image/jpeg:https://tampabayscouting.org/wp-content/uploads/2024/03/11.jpg
ORGANIZER;CN="Emily Thomas":MAILTO:emily.thomas@scouting.org
END:VEVENT
END:VCALENDAR